Workbook

Sheet EtatImmobilisation
A1: Etat d'immobilisation Auto Ecole XXXX
A3: Ref | B3: Désignation | C3: Date Acquisition | D3: Ref Pièce justificative | E3: Valeur d'acquisition HT | F3: Durée (ans) Amortissement
A4: ae0001 | B4: Frais d'installation | C4: janvier | E4: 3500 | F4: 10
A5: ae0002 | B5: Travaux d'aménagement local | C5: janvier | E5: 3000 | F5: 10
A6: ae0003 | B6: Ordinateur Portable | C6: mai | E6: 600 | F6: 3
A7: ae0004 | B7: Imprimante Laser HP | C7: mai | E7: 200 | F7: 3
A8: ae0005 | B8: Bureau d'accueil + chaise + Etagere | C8: avril | E8: 600 | F8: 5
A9: ae0006 | B9: 15 chaises + Tablettes | C9: avril | E9: =60*15 -> 900 | F9: 5
A10: ae0007 | B10: Matériel pédagogique (affiche salle code + panneau de toit ) | C10: avril | E10: 100 | F10: 5
A11: ae0008 | B11: Vidéoprojecteur + Lecteur DVD | C11: avril | E11: 1000 | F11: 3
A12: ae0009 | B12: 4 DVD ENPC | C12: mai | E12: =4*142 -> 568 | F12: 3
A14: Total | E14: =SUM(E4:E12) -> 10468
A17: DOTATION ANNUEL AUX AMORTISSEMENTS
C19: Nb mois ammortiss. | D19: Mensualité | E19: Nb mois mens An 1 | F19: Année 1 | G19: Année 2 | H19: Année 3
A20: ae0001 | B20: Frais d'installation | C20: =+F4*12 -> 120 | D20: =E4/C20 -> 29.166667 | E20: 12 | F20: =D20*E20 -> 350 | G20: =D20*12 -> 350 | H20: =12*D20 -> 350
A21: ae0002 | B21: Travaux d'aménagement local | C21: =+F5*12 -> 120 | D21: =E5/C21 -> 25 | E21: 12 | F21: =D21*E21 -> 300 | G21: =D21*12 -> 300 | H21: =12*D21 -> 300
A22: ae0003 | B22: Ordinateur Portable | C22: =+F6*12 -> 36 | D22: =E6/C22 -> 16.666667 | E22: 8 | F22: =D22*E22 -> 133.33333 | G22: =D22*12 -> 200 | H22: =12*D22 -> 200
A23: ae0004 | B23: Imprimante Laser HP | C23: =+F7*12 -> 36 | D23: =E7/C23 -> 5.5555556 | E23: 8 | F23: =D23*E23 -> 44.444444 | G23: =D23*12 -> 66.666667 | H23: =12*D23 -> 66.666667
A24: ae0005 | B24: Bureau d'accueil + chaise + Etagere | C24: =+F8*12 -> 60 | D24: =E8/C24 -> 10 | E24: 9 | F24: =D24*E24 -> 90 | G24: =D24*12 -> 120 | H24: =12*D24 -> 120
A25: ae0006 | B25: 15 chaises + Tablettes | C25: =+F9*12 -> 60 | D25: =E9/C25 -> 15 | E25: 9 | F25: =D25*E25 -> 135 | G25: =D25*12 -> 180 | H25: =12*D25 -> 180
A26: ae0007 | B26: Matériel pédagogique (affiche salle code + panneau de toit ) | C26: =+F10*12 -> 60 | D26: =E10/C26 -> 1.6666667 | E26: 9 | F26: =D26*E26 -> 15 | G26: =D26*12 -> 20 | H26: =12*D26 -> 20
A27: ae0008 | B27: Vidéoprojecteur + Lecteur DVD | C27: =+F11*12 -> 36 | D27: =E11/C27 -> 27.777778 | E27: 9 | F27: =D27*E27 -> 250 | G27: =D27*12 -> 333.33333 | H27: =12*D27 -> 333.33333
A28: ae0009 | B28: 4 DVD ENPC | C28: =+F12*12 -> 36 | D28: =E12/C28 -> 15.777778 | E28: 8 | F28: =D28*E28 -> 126.22222 | G28: =D28*12 -> 189.33333 | H28: =12*D28 -> 189.33333
E30: TOTAL | F30: =SUM(F20:F28) -> 1444 | G30: =SUM(G20:G28) -> 1759.3333 | H30: =SUM(H20:H28) -> 1759.3333

Sheet CompteResultat12mois
B1: COMPTE DE RESULTAT
C2: (Sans Soldes Intermédiaires de Gestion)
R4: Pamétrage
D5: Janv | E5: Fev | F5: Mars | G5: Avril | H5: Mai | I5: Juin | J5: Juill | K5: Aout | L5: Sept | M5: Oct | N5: Nov | O5: Dec | P5: 1ère année | R5: CA HT moyer par inscript permis | S5: 1500
C6: Nb inscription permis | I6: 3 | J6: 3 | K6: 2 | L6: 2 | M6: 1 | N6: 1 | O6: 3 | P6: =SUM(D6:O6) -> 15 | R6: CA HT par stagiaire entreprise | S6: 500
C7: Nb stagiaires eco permis | L7: 2 | M7: 3 | N7: 3 | O7: 3 | P7: =SUM(D7:O7) -> 11 | R7: Loyer local | S7: 650
B8: Chiffre d'affaires HT | R8: Loyer vhl | S8: 450
B9: CA Permis B & Permis A | I9: =I6*$S$5 -> 4500 | J9: =J6*$S$5 -> 4500 | K9: =K6*$S$5 -> 3000 | L9: =L6*$S$5 -> 3000 | M9: =M6*$S$5 -> 1500 | N9: =N6*$S$5 -> 1500 | O9: =O6*$S$5 -> 4500 | P9: =SUM(I9:O9) -> 22500 | R9: Carburant/mois/voiture | S9: 200
B10: CA Stage Entreprise | I10: =I7*$S$6 -> 0 | J10: =J7*$S$6 -> 0 | K10: =K7*$S$6 -> 0 | L10: =L7*$S$6 -> 1000 | M10: =M7*$S$6 -> 1500 | N10: =N7*$S$6 -> 1500 | O10: =O7*$S$6 -> 1500 | P10: =SUM(I10:O10) -> 5500 | R10: Nb voiture | S10: 1
A11: Total des PRODUITS (A) | I11: =SUM(I8:I10) -> 4500 | J11: =SUM(J8:J10) -> 4500 | K11: =SUM(K8:K10) -> 3000 | L11: =SUM(L8:L10) -> 4000 | M11: =SUM(M8:M10) -> 3000 | N11: =SUM(N8:N10) -> 3000 | O11: =SUM(O8:O10) -> 6000 | P11: =SUM(P8:P10) -> 28000 | R11: Assurance (vhl, local) mensuels | S11: 120
A12: Charges externes | R12: Box Telecom | S12: 40
B13: Papier | I13: 5 | K13: 5 | M13: 5 | O13: 5 | P13: =SUM(D13:O13) -> 20 | R13: Electricité | S13: 30
B14: Cartouche d'encre | I14: 40 | K14: 40 | M14: 40 | O14: 40 | P14: =SUM(D14:O14) -> 160 | R14: Eau | S14: 20
B15: Fourniture pédagogique (consommable) | H15: 250 | P15: =SUM(D15:O15) -> 250 | R15: 1er loyer loc vhl | S15: 5000
B16: loyer local | D16: 650 | E16: 650 | F16: 650 | G16: 650 | H16: 650 | I16: 650 | J16: 650 | K16: 650 | L16: 650 | M16: 650 | N16: 650 | O16: 650 | P16: =SUM(D16:O16) -> 7800 | R16: Forfait GSM mensuel | S16: 20
B17: loyer vhl | F17: 5000 | G17: 450 | H17: 450 | I17: 450 | J17: 450 | K17: 450 | L17: 450 | M17: 450 | N17: 450 | O17: 450 | P17: =SUM(D17:O17) -> 9050
B18: carburant | F18: 50 | G18: 100 | H18: 100 | I18: 150 | J18: 150 | K18: 200 | L18: 200 | M18: 200 | N18: 200 | O18: 200 | P18: =SUM(D18:O18) -> 1550
B19: Entretien Véhicule | P19: =SUM(D19:O19) -> 0
B20: Entretien Local | F20: 50 | I20: 20 | K20: 20 | M20: 20 | O20: 20 | P20: =SUM(D20:O20) -> 130 | R20: Hypothèses | T20: http://www.rsi.fr/simulateur-de-cotisations-sociales.html
B21: Electricité | F21: 90 | G21: 30 | H21: 30 | I21: 30 | J21: 30 | K21: 30 | L21: 30 | M21: 30 | N21: 30 | O21: 30 | P21: =SUM(D21:O21) -> 360 | R21: Exonération des charges sociales grâce au dispositif ACCRE
B22: Eau | F22: 35 | G22: 5 | H22: 5 | I22: 5 | J22: 5 | K22: 40 | L22: 5 | M22: 5 | N22: 5 | O22: 5 | P22: =SUM(D22:O22) -> 115 | R22: Box Telecom/Interne Pro
B23: Assurances | D23: 30 | E23: 30 | F23: 120 | G23: 120 | H23: 120 | I23: 120 | J23: 120 | K23: 120 | L23: 120 | M23: 120 | N23: 120 | O23: 120 | P23: =SUM(D23:O23) -> 1260 | R23: Forfait Téléphone illimité
B24: Frais d'installation | P24: =SUM(D24:O24) -> 0 | R24: Frais d'installation = Frais agence pour le local + Enregistrement entreprise
B25: Internet/Telecom | H25: 35 | I25: 35 | J25: 35 | K25: 35 | L25: 35 | M25: 35 | N25: 35 | O25: 35 | P25: =SUM(D25:O25) -> 280 | R25: Location du véhicule AE sur 24 mois
B26: Affranchissement | D26: 24 | H26: 24 | L26: 24 | P26: =SUM(D26:O26) -> 72 | R26: Frais formation = Capacité de gestion + Stage Eco conduite
B27: Abonnement téléphone portable | G27: 20 | H27: 20 | I27: 20 | J27: 20 | K27: 20 | L27: 20 | M27: 20 | N27: 20 | O27: 20 | P27: =SUM(D27:O27) -> 180 | R27: Impasse sur les boitîers Télédis (Pack de 8 = 2000 Euros HT)
B28: Marketing (affiche, brochure, prospection) | H28: 1000 | K28: 500 | N28: 500 | P28: =SUM(D28:O28) -> 2000 | R28: Pas d'embauche sur 3 ans
B29: Autres Impôts et taxes | R29: Prêt bancaire de 10 000 € sur 60 mois couplé à un prêt d'honneur NACRE
B30: Cotisation sociale obligatoire
B31: Formations et Documentations | F31: 750 | G31: 750 | P31: =SUM(D31:O31) -> 1500
B32: Frais restauration | I32: 100 | P32: =SUM(D32:O32) -> 100
B33: Frais de Gestion (cabinet aide création, comptable) | D33: 100 | E33: 200 | F33: 200 | O33: 1000 | P33: =SUM(D33:O33) -> 1500
B34: Divers
A35: Impôts et taxes
B36: Taxe Pro / CFE
A37: Charges de personnel
A39: Charges financières
B40: Intérêts sur emprunts à moyen et long terme | I40: 190 | J40: 190 | K40: 190 | L40: 190 | M40: 190 | N40: 190 | O40: 190 | P40: =SUM(D40:O40) -> 1330
B41: Agios sur dettes à court terme
B42: Charges exceptionnelles
...

Sheet PlanTreso12mois
E1: Janv | F1: Fev | G1: Mars | H1: Avril | I1: Mai | J1: Juin | K1: Juill | L1: Aout | M1: Sept | N1: Oct | O1: Nov | P1: Dec
A2: Soldes en debut de mois (+ ou -) | E2: 0 | F2: =E59 -> 19196 | G2: =F59 -> 17316 | H2: =G59 -> 9371 | I2: =H59 -> 4646 | J2: =I59 -> 594 | K2: =J59 -> 69 | L2: =K59 -> 1209 | M2: =L59 -> 2699 | ... P2: =O59 -> 6380
A3: ENCAISSEMENT
B4: EXPLOITATION
C5: Recette Activité | E5: =CompteResultat12mois!D11 -> 0 | F5: =CompteResultat12mois!E11 -> 0 | G5: =CompteResultat12mois!F11 -> 0 | H5: =CompteResultat12mois!G11 -> 0 | I5: =CompteResultat12mois!H11 -> 0 | J5: 1500 | K5: 3000 | L5: 4000 | M5: 3500 | N5: 3500 | O5: 3000 | P5: 3500
B6: HORS EXPLOITATION
C7: Apport Actionnaires | E7: 2500
C8: Compte Courant d'Associés
C9: Prêt Banque/Etat | E9: 22000
C10: Prime/Subvention d'équipement
A11: TOTAL (1) | E11: =SUM(E3:E10) -> 24500 | F11: =SUM(F3:F10) -> 0 | G11: =SUM(G3:G10) -> 0 | H11: =SUM(H3:H10) -> 0 | I11: =SUM(I3:I10) -> 0 | J11: =SUM(J3:J10) -> 1500 | K11: =SUM(K3:K10) -> 3000 | L11: =SUM(L3:L10) -> 4000 | ... P11: =SUM(P3:P10) -> 3500
A12: DECAISSEMENTS (TTC)
B13: D'EXPLOITATION
C14: loyer local | E14: =CompteResultat12mois!D16 -> 650 | F14: =CompteResultat12mois!E16 -> 650 | G14: =CompteResultat12mois!F16 -> 650 | H14: =CompteResultat12mois!G16 -> 650 | I14: =CompteResultat12mois!H16 -> 650 | J14: =CompteResultat12mois!I16 -> 650 | K14: =CompteResultat12mois!J16 -> 650 | L14: =CompteResultat12mois!K16 -> 650 | ... P14: =CompteResultat12mois!O16 -> 650
C15: loyer véhicule | E15: =CompteResultat12mois!D17 -> 0 | F15: =CompteResultat12mois!E17 -> 0 | G15: =CompteResultat12mois!F17 -> 5000 | H15: =CompteResultat12mois!G17 -> 450 | I15: =CompteResultat12mois!H17 -> 450 | J15: =CompteResultat12mois!I17 -> 450 | K15: =CompteResultat12mois!J17 -> 450 | L15: =CompteResultat12mois!K17 -> 450 | ... P15: =CompteResultat12mois!O17 -> 450
C16: carburant | E16: =CompteResultat12mois!D18 -> 0 | F16: =CompteResultat12mois!E18 -> 0 | G16: =CompteResultat12mois!F18 -> 50 | H16: =CompteResultat12mois!G18 -> 100 | I16: =CompteResultat12mois!H18 -> 100 | J16: =CompteResultat12mois!I18 -> 150 | K16: =CompteResultat12mois!J18 -> 150 | L16: =CompteResultat12mois!K18 -> 200 | ... P16: =CompteResultat12mois!O18 -> 200
C17: Entretien Véhicule | E17: =CompteResultat12mois!D19 -> 0 | F17: =CompteResultat12mois!E19 -> 0 | G17: =CompteResultat12mois!F19 -> 0 | H17: =CompteResultat12mois!G19 -> 0 | I17: =CompteResultat12mois!H19 -> 0 | J17: =CompteResultat12mois!I19 -> 0 | K17: =CompteResultat12mois!J19 -> 0 | L17: =CompteResultat12mois!K19 -> 0 | ... P17: =CompteResultat12mois!O19 -> 0
C18: Entretien Local | E18: =CompteResultat12mois!D20 -> 0 | F18: =CompteResultat12mois!E20 -> 0 | G18: =CompteResultat12mois!F20 -> 50 | H18: =CompteResultat12mois!G20 -> 0 | I18: =CompteResultat12mois!H20 -> 0 | J18: =CompteResultat12mois!I20 -> 20 | K18: =CompteResultat12mois!J20 -> 0 | L18: =CompteResultat12mois!K20 -> 20 | ... P18: =CompteResultat12mois!O20 -> 20
B19: ACHATS DE FOURNITURES
C20: Papier | E20: =CompteResultat12mois!D13 -> 0 | F20: =CompteResultat12mois!E13 -> 0 | G20: =CompteResultat12mois!F13 -> 0 | H20: =CompteResultat12mois!G13 -> 0 | I20: =CompteResultat12mois!H13 -> 0 | J20: =CompteResultat12mois!I13 -> 5 | K20: =CompteResultat12mois!J13 -> 0 | L20: =CompteResultat12mois!K13 -> 5 | ... P20: =CompteResultat12mois!O13 -> 5
C21: Cartouche d'encre | E21: =CompteResultat12mois!D14 -> 0 | F21: =CompteResultat12mois!E14 -> 0 | G21: =CompteResultat12mois!F14 -> 0 | H21: =CompteResultat12mois!G14 -> 0 | I21: =CompteResultat12mois!H14 -> 0 | J21: =CompteResultat12mois!I14 -> 40 | K21: =CompteResultat12mois!J14 -> 0 | L21: =CompteResultat12mois!K14 -> 40 | ... P21: =CompteResultat12mois!O14 -> 40
C22: Fourniture pédagogique | E22: =CompteResultat12mois!D15 -> 0 | F22: =CompteResultat12mois!E15 -> 0 | G22: =CompteResultat12mois!F15 -> 0 | H22: =CompteResultat12mois!G15 -> 0 | I22: =CompteResultat12mois!H15 -> 250 | J22: =CompteResultat12mois!I15 -> 0 | K22: =CompteResultat12mois!J15 -> 0 | L22: =CompteResultat12mois!K15 -> 0 | ... P22: =CompteResultat12mois!O15 -> 0
B23: INVESTISSEMENT
C24: Travaux d'aménagement local | E24: 1000 | F24: 1000 | G24: 1000
C25: Ordinateur Portable | I25: 600
C26: Imprimante Laser HP | I26: 200
C27: Bureau d'accueil + chaise + Etagere | H27: =EtatImmobilisation!E8 -> 600
C28: 15 chaises + Tablettes | H28: =EtatImmobilisation!E9 -> 900
C29: Matériel pédagogique | H29: =EtatImmobilisation!E10 -> 100
C30: Vidéoprojecteur + Lecteur DVD | H30: =EtatImmobilisation!E11 -> 1000
C31: 4 DVD ENPC | I31: =EtatImmobilisation!E12 -> 568
B32: CHARGES EXTERNES
C33: Electricité | E33: =CompteResultat12mois!D21 -> 0 | F33: =CompteResultat12mois!E21 -> 0 | G33: =CompteResultat12mois!F21 -> 90 | H33: =CompteResultat12mois!G21 -> 30 | I33: =CompteResultat12mois!H21 -> 30 | J33: =CompteResultat12mois!I21 -> 30 | K33: =CompteResultat12mois!J21 -> 30 | L33: =CompteResultat12mois!K21 -> 30 | ... P33: =CompteResultat12mois!O21 -> 30
C34: Eau | E34: =CompteResultat12mois!D22 -> 0 | F34: =CompteResultat12mois!E22 -> 0 | G34: =CompteResultat12mois!F22 -> 35 | H34: =CompteResultat12mois!G22 -> 5 | I34: =CompteResultat12mois!H22 -> 5 | J34: =CompteResultat12mois!I22 -> 5 | K34: =CompteResultat12mois!J22 -> 5 | L34: =CompteResultat12mois!K22 -> 40 | ... P34: =CompteResultat12mois!O22 -> 5
C35: Assurances | E35: =CompteResultat12mois!D23 -> 30 | F35: =CompteResultat12mois!E23 -> 30 | G35: =CompteResultat12mois!F23 -> 120 | H35: =CompteResultat12mois!G23 -> 120 | I35: =CompteResultat12mois!H23 -> 120 | J35: =CompteResultat12mois!I23 -> 120 | K35: =CompteResultat12mois!J23 -> 120 | L35: =CompteResultat12mois!K23 -> 120 | ... P35: =CompteResultat12mois!O23 -> 120
C36: Frais d'installation | E36: 3500
C37: Internet / Telephone | E37: =CompteResultat12mois!D25 -> 0 | F37: =CompteResultat12mois!E25 -> 0 | G37: =CompteResultat12mois!F25 -> 0 | H37: =CompteResultat12mois!G25 -> 0 | I37: =CompteResultat12mois!H25 -> 35 | J37: =CompteResultat12mois!I25 -> 35 | K37: =CompteResultat12mois!J25 -> 35 | L37: =CompteResultat12mois!K25 -> 35 | ... P37: =CompteResultat12mois!O25 -> 35
C38: Affranchissement | E38: =CompteResultat12mois!D26 -> 24 | F38: =CompteResultat12mois!E26 -> 0 | G38: =CompteResultat12mois!F26 -> 0 | H38: =CompteResultat12mois!G26 -> 0 | I38: =CompteResultat12mois!H26 -> 24 | J38: =CompteResultat12mois!I26 -> 0 | K38: =CompteResultat12mois!J26 -> 0 | L38: =CompteResultat12mois!K26 -> 0 | ... P38: =CompteResultat12mois!O26 -> 0
C39: Téléphones Portable | E39: =CompteResultat12mois!D27 -> 0 | F39: =CompteResultat12mois!E27 -> 0 | G39: =CompteResultat12mois!F27 -> 0 | H39: =CompteResultat12mois!G27 -> 20 | I39: =CompteResultat12mois!H27 -> 20 | J39: =CompteResultat12mois!I27 -> 20 | K39: =CompteResultat12mois!J27 -> 20 | L39: =CompteResultat12mois!K27 -> 20 | ... P39: =CompteResultat12mois!O27 -> 20
C40: Marketing (pub, prospection) | E40: =CompteResultat12mois!D28 -> 0 | F40: =CompteResultat12mois!E28 -> 0 | G40: =CompteResultat12mois!F28 -> 0 | H40: =CompteResultat12mois!G28 -> 0 | I40: =CompteResultat12mois!H28 -> 1000 | J40: =CompteResultat12mois!I28 -> 0 | K40: =CompteResultat12mois!J28 -> 0 | L40: =CompteResultat12mois!K28 -> 500 | ... P40: =CompteResultat12mois!O28 -> 0
...

Sheet CompteResultat3ans
B1: COMPTE DE RESULTAT
C2: (Sans Soldes Intermédiaires de Gestion)
H4: Pamétrage
D5: Année 1 | E5: Année 2 | F5: Année 3 | H5: CA HT moyer par inscript permis | I5: 1500
C6: Nb mois | D6: 7 | E6: 12 | F6: 12 | H6: CA HT par stagiaire entreprise | I6: 500
C7: Nb inscription permis | D7: 15 | E7: 30 | F7: 36 | H7: Loyer local | I7: 650
C8: Nb stagiaires eco permis | D8: 11 | E8: 21 | F8: 30 | H8: Loyer vhl | I8: 450
B9: Chiffre d'affaires HT | H9: Carburant/mois/voiture | I9: 200
B10: CA Permis B & Permis A | D10: =D$7*$I$5 -> 22500 | E10: =E$7*$I$5 -> 45000 | F10: =F$7*$I$5 -> 54000 | H10: Nb voiture | I10: 1
B11: CA Stage Entreprise | D11: =D$8*$I$6 -> 5500 | E11: =E$8*$I$6 -> 10500 | F11: =F$8*$I$6 -> 15000 | H11: Assurance (vhl, local) mensuels | I11: 120
H12: Box Telecom | I12: 35
A13: Total des PRODUITS (A) | D13: =SUM(D9:D12) -> 28000 | E13: =SUM(E9:E12) -> 55500 | F13: =SUM(F9:F12) -> 69000 | H13: Electricité | I13: 30
A14: Charges externes | H14: Eau | I14: 20
B15: Papier | D15: =CompteResultat12mois!P13 -> 20 | E15: 40 | F15: 40 | H15: 1er loyer loc vhl | I15: 5000
B16: Cartouche d'encre | D16: =CompteResultat12mois!P14 -> 160 | E16: 160 | F16: 160 | H16: Forfait GSM mensuel | I16: 20
B17: Fourniture pédagogique (consommable) | D17: =CompteResultat12mois!P15 -> 250 | E17: 500 | F17: 500
B18: loyer local | D18: =CompteResultat12mois!P16 -> 7800 | E18: =$I$7*E$6 -> 7800 | F18: =$I$7*F$6 -> 7800
B19: loyer vhl | D19: =CompteResultat12mois!P17 -> 9050 | E19: =$I$8*12 -> 5400 | F19: 9050
B20: carburant | D20: =CompteResultat12mois!P18 -> 1550 | E20: =$I$9*$I$10*E$6 -> 2400 | F20: =$I$9*$I$10*F$6 -> 2400 | H20: Hypothèses | J20: http://www.rsi.fr/simulateur-de-cotisations-sociales.html
B21: Entretien Véhicule | D21: =CompteResultat12mois!P19 -> 0 | E21: 250 | F21: 250 | H21: Exonération des charges sociales grâce au dispositif ACCRE
B22: Entretien Local | D22: =CompteResultat12mois!P20 -> 130 | E22: 150 | F22: 150 | H22: Box Telecom/Interne Pro
B23: Electricité | D23: =CompteResultat12mois!P21 -> 360 | E23: 420 | F23: 420 | H23: Forfait Téléphone illimité
B24: Eau | D24: =CompteResultat12mois!P22 -> 115 | E24: 150 | F24: 150 | H24: Frais d'installation = Frais agence pour le local + Enregistrement entreprise
B25: Assurances | D25: =CompteResultat12mois!P23 -> 1260 | E25: 1500 | F25: 1500 | H25: Location du véhicule AE sur 24 mois
B26: Frais d'installation | D26: =CompteResultat12mois!P24 -> 0 | H26: Frais formation = Capacité de gestion + Stage Eco conduite
B27: Internet/Telecom | D27: =CompteResultat12mois!P25 -> 280 | E27: =$I$12*E$6 -> 420 | F27: =$I$12*F$6 -> 420 | H27: Impasse sur les boitîers Télédis (Pack de 8 = 2000 Euros HT)
B28: Affranchissement | D28: =CompteResultat12mois!P26 -> 72 | E28: 120 | F28: 120 | H28: Pas d'embauche sur 3 ans
B29: Abonnement téléphone portable | D29: =CompteResultat12mois!P27 -> 180 | E29: =$I$16*E$6 -> 240 | F29: =$I$16*F$6 -> 240
B30: Marketing (affiche, brochure, prospection) | D30: =CompteResultat12mois!P28 -> 2000 | E30: 1500 | F30: 1500
B31: Autres Impôts et taxes | E31: 1500 | F31: 1500
B32: Cotisation sociale obligatoire | E32: 2000 | F32: 6000
B33: Formations et Documentations | D33: =CompteResultat12mois!P31 -> 1500 | E33: 500 | F33: 500
B34: Frais restauration | D34: =CompteResultat12mois!P32 -> 100 | E34: 200 | F34: 200
B35: Frais de Gestion (cabinet aide création, comptable) | D35: =CompteResultat12mois!P33 -> 1500 | E35: 1500 | F35: 2000
B36: Divers
A37: Impôts et taxes
B38: Taxe Pro / CFE | D38: =CompteResultat12mois!P36 -> 0 | E38: 1000 | F38: 1000
A39: Charges de personnel
A41: Charges financières
B42: Intérêts sur emprunts à moyen et long terme | D42: =CompteResultat12mois!P40 -> 1330 | E42: 1200 | F42: 1100
...
